{
 "currentVersion": 11.5,
 "serviceDescription": "elevation/DSM_2021",
 "serviceItemId": "7162af2462db4a689579c785d6873d67",
 "name": "elevation/DSM_2021",
 "description": "",
 "extent": {
  "xmin": 10906632,
  "ymin": 3588816,
  "xmax": 10938312,
  "ymax": 3633696,
  "spatialReference": {
   "wkid": 102747,
   "latestWkid": 2284,
   "vcsWkid": 105703,
   "latestVcsWkid": 6360
  }
 },
 "initialExtent": {
  "xmin": 10906632,
  "ymin": 3588816,
  "xmax": 10938312,
  "ymax": 3633696,
  "spatialReference": {
   "wkid": 102747,
   "latestWkid": 2284,
   "vcsWkid": 105703,
   "latestVcsWkid": 6360
  }
 },
 "fullExtent": {
  "xmin": 10906632,
  "ymin": 3588816,
  "xmax": 10938312,
  "ymax": 3633696,
  "spatialReference": {
   "wkid": 102747,
   "latestWkid": 2284,
   "vcsWkid": 105703,
   "latestVcsWkid": 6360
  }
 },
 "sortableFields": "",
 "heightModelInfo": {
  "heightModel": "gravity_related_height",
  "vertCRS": "NAVD88_height_(ftUS)",
  "heightUnit": "us-foot"
 },
 "bandCount": 1,
 "pixelType": "F32",
 "minValues": [
  1559.0899658203
 ],
 "maxValues": [
  2990.7600097656
 ],
 "meanValues": [
  2124.4247924993
 ],
 "stdvValues": [
  140.11604384417
 ],
 "serviceProperties": "Center<\/MosaicMethod>First<\/MosaicOperator>true<\/SortAscending><\/LockImageID><\/TileOrderField>0<\/TileOrderBase>0.000000<\/AvgImageSpacingX>0.000000<\/AvgImageSpacingY>0.0<\/ViewPointX>0.0<\/ViewPointY>0.0<\/ViewPointDefShiftX>0.0<\/ViewPointDefShiftY>JPEG<\/CompressionMethod>75<\/CompressionQuality>0.010000<\/CompressionTolerance>Bilinear<\/SamplingMethod><\/ImageServiceProperties><\/ImageServer>",
 "allowedFields": "",
 "hasMultidimensions": false,
 "pixelSizeX": 5,
 "pixelSizeY": 5,
 "meanPixelSize": 1.5240030480060962,
 "datasetFormat": "TIFF",
 "uncompressedSize": 227487744,
 "blockWidth": 128,
 "blockHeight": 128,
 "compressionType": "LZW",
 "bandNames": [
  "Band_1"
 ],
 "allowCopy": true,
 "allowAnalysis": true,
 "itemAccess": false,
 "inspectionCapabilities": "",
 "noDataValue": -3.4028234663852886E38,
 "noDataValues": [
  -3.4028234663852886E38
 ],
 "minPixelSize": 0,
 "maxPixelSize": 0,
 "copyrightText": "",
 "serviceDataType": "esriImageServiceDataTypeGeneric",
 "serviceSourceType": "esriImageServiceSourceTypeDataset",
 "objectIdField": "",
 "fields": [],
 "capabilities": "Mensuration,Image,Metadata",
 "defaultMosaicMethod": "Center",
 "allowedMosaicMethods": "",
 "sortField": "",
 "sortValue": null,
 "sortAscending": true,
 "mosaicOperator": "First",
 "defaultCompressionQuality": 75,
 "defaultResamplingMethod": "Bilinear",
 "maxImageHeight": 4100,
 "maxImageWidth": 15000,
 "allowRasterFunction": true,
 "rasterFunctionInfos": [
  {
   "name": "None",
   "description": "Make a Raster or Raster Dataset into a Function Raster Dataset.",
   "help": ""
  }
 ],
 "rasterTypeInfos": [
  {
   "name": "Raster Dataset",
   "description": "Supports all ArcGIS Raster Datasets",
   "help": ""
  }
 ],
 "mensurationCapabilities": "Basic",
 "hasHistograms": true,
 "hasColormap": false,
 "hasRasterAttributeTable": false,
 "minScale": 0,
 "maxScale": 0,
 "exportTilesAllowed": false,
 "supportsStatistics": false,
 "supportsAdvancedQueries": false,
 "editFieldsInfo": null,
 "ownershipBasedAccessControlForRasters": null,
 "allowComputeTiePoints": false,
 "useStandardizedQueries": true,
 "advancedQueryCapabilities": {
  "useStandardizedQueries": true,
  "supportsStatistics": false,
  "supportsOrderBy": false,
  "supportsDistinct": false,
  "supportsPagination": false
 },
 "spatialReference": {
  "wkid": 102747,
  "latestWkid": 2284,
  "vcsWkid": 105703,
  "latestVcsWkid": 6360
 },
 "resampling": false
}
