{
 "currentVersion": 11.5,
 "serviceDescription": "elevation/Dem3ft_2021",
 "serviceItemId": "96398916c5a34cc6a487131dd74489bb",
 "name": "elevation/Dem3ft_2021",
 "description": "",
 "extent": {
  "xmin": 1.08665745E7,
  "ymin": 3588361.5,
  "xmax": 1.09387695E7,
  "ymax": 3634153.5,
  "spatialReference": {
   "wkid": 102747,
   "latestWkid": 2284
  }
 },
 "initialExtent": {
  "xmin": 1.08665745E7,
  "ymin": 3588361.5,
  "xmax": 1.09387695E7,
  "ymax": 3634153.5,
  "spatialReference": {
   "wkid": 102747,
   "latestWkid": 2284
  }
 },
 "fullExtent": {
  "xmin": 1.08665745E7,
  "ymin": 3588361.5,
  "xmax": 1.09387695E7,
  "ymax": 3634153.5,
  "spatialReference": {
   "wkid": 102747,
   "latestWkid": 2284
  }
 },
 "sortableFields": "",
 "bandCount": 1,
 "pixelType": "U32",
 "minValues": [
  1530
 ],
 "maxValues": [
  2846
 ],
 "meanValues": [
  2035.0316660334106
 ],
 "stdvValues": [
  174.32077984327975
 ],
 "serviceProperties": "Center<\/MosaicMethod>First<\/MosaicOperator>true<\/SortAscending><\/LockImageID><\/TileOrderField>0<\/TileOrderBase>0.000000<\/AvgImageSpacingX>0.000000<\/AvgImageSpacingY>0.0<\/ViewPointX>0.0<\/ViewPointY>0.0<\/ViewPointDefShiftX>0.0<\/ViewPointDefShiftY>JPEG<\/CompressionMethod>75<\/CompressionQuality>0.010000<\/CompressionTolerance>Bilinear<\/SamplingMethod><\/ImageServiceProperties><\/ImageServer>",
 "allowedFields": "",
 "hasMultidimensions": false,
 "pixelSizeX": 3,
 "pixelSizeY": 3,
 "meanPixelSize": 0.9144018288036577,
 "datasetFormat": "FGDBR",
 "uncompressedSize": 1469312640,
 "blockWidth": 128,
 "blockHeight": 128,
 "compressionType": "LZ77",
 "bandNames": [
  "Band_1"
 ],
 "allowCopy": true,
 "allowAnalysis": true,
 "itemAccess": false,
 "inspectionCapabilities": "",
 "minPixelSize": 0,
 "maxPixelSize": 0,
 "copyrightText": "",
 "serviceDataType": "esriImageServiceDataTypeGeneric",
 "serviceSourceType": "esriImageServiceSourceTypeDataset",
 "objectIdField": "",
 "fields": [],
 "capabilities": "Mensuration,Image,Metadata",
 "defaultMosaicMethod": "Center",
 "allowedMosaicMethods": "",
 "sortField": "",
 "sortValue": null,
 "sortAscending": true,
 "mosaicOperator": "First",
 "defaultCompressionQuality": 75,
 "defaultResamplingMethod": "Bilinear",
 "maxImageHeight": 4100,
 "maxImageWidth": 15000,
 "allowRasterFunction": true,
 "rasterFunctionInfos": [
  {
   "name": "None",
   "description": "Make a Raster or Raster Dataset into a Function Raster Dataset.",
   "help": ""
  },
  {
   "name": "PercentSlop",
   "description": "A raster function template.",
   "help": ""
  },
  {
   "name": "Elevation-view",
   "description": "Visualize elevation in using blue-yellow color ramp with 2 standard deviation stretch.",
   "help": ""
  },
  {
   "name": "Aspect",
   "description": "Visualize Aspect of DEM. ",
   "help": ""
  },
  {
   "name": "Shaded Relief",
   "description": "A raster function template.",
   "help": ""
  }
 ],
 "rasterTypeInfos": [
  {
   "name": "Raster Dataset",
   "description": "Supports all ArcGIS Raster Datasets",
   "help": ""
  }
 ],
 "mensurationCapabilities": "Basic",
 "hasHistograms": true,
 "hasColormap": false,
 "hasRasterAttributeTable": false,
 "minScale": 0,
 "maxScale": 0,
 "exportTilesAllowed": false,
 "supportsStatistics": false,
 "supportsAdvancedQueries": false,
 "editFieldsInfo": null,
 "ownershipBasedAccessControlForRasters": null,
 "allowComputeTiePoints": false,
 "useStandardizedQueries": true,
 "advancedQueryCapabilities": {
  "useStandardizedQueries": true,
  "supportsStatistics": false,
  "supportsOrderBy": false,
  "supportsDistinct": false,
  "supportsPagination": false
 },
 "spatialReference": {
  "wkid": 102747,
  "latestWkid": 2284
 },
 "resampling": false
}
