View In:
ArcGIS JavaScript
ArcGIS Online Map Viewer
ArcGIS Earth
Service Description: elevation/nDSM_2021
Name: elevation/nDSM_2021
Description:
Single Fused Map Cache: false
Extent:
XMin: 1.0906632E7
YMin: 3588816.0
XMax: 1.0938312E7
YMax: 3633696.0
Spatial Reference: 102747
(2284)
VCSWkid(105703)
LatestVCSWkid(6360)
Initial Extent:
XMin: 1.0906632E7
YMin: 3588816.0
XMax: 1.0938312E7
YMax: 3633696.0
Spatial Reference: 102747
(2284)
VCSWkid(105703)
LatestVCSWkid(6360)
Full Extent:
XMin: 1.0906632E7
YMin: 3588816.0
XMax: 1.0938312E7
YMax: 3633696.0
Spatial Reference: 102747
(2284)
VCSWkid(105703)
LatestVCSWkid(6360)
Pixel Size X: 5.0
Pixel Size Y: 5.0
Band Count: 1
Pixel Type: F32
RasterFunction Infos: {"rasterFunctionInfos": [{
"name": "None",
"description": "",
"help": ""
}]}
Mensuration Capabilities: Basic
Inspection Capabilities:
Has Histograms: true
Has Colormap: false
Has Multi Dimensions : false
Rendering Rule:
Min Scale: 0
Max Scale: 0
Min LOD: 11
Max LOD: 19
Resampling: false
Copyright Text:
Service Data Type: esriImageServiceDataTypeGeneric
Min Values: -28.067749023438
Max Values: 841.28393554688
Mean Values: 29.985884718949
Standard Deviation Values: 32.322519660405
Object ID Field:
Fields:
None
Default Mosaic Method: Center
Allowed Mosaic Methods:
SortField:
SortValue: null
Mosaic Operator: First
Default Compression Quality: 75
Default Resampling Method: Bilinear
Max Record Count: null
Max Image Height: 4100
Max Image Width: 15000
Max Download Image Count: null
Max Mosaic Image Count: null
Allow Raster Function: true
Allow Copy: true
Allow Analysis: true
Allow Compute TiePoints: false
Supports Statistics: false
Supports Advanced Queries: false
Use StandardizedQueries: true
Raster Type Infos:
Name: Raster Dataset
Description: Supports all ArcGIS Raster Datasets
Help:
Has Raster Attribute Table: false
Edit Fields Info: null
Ownership Based AccessControl For Rasters: null
Child Resources:
Info
Histograms
Statistics
Key Properties
Legend
Raster Function Infos
Supported Operations:
Export Image
Identify
Measure
Compute Histograms
Compute Statistics Histograms
Get Samples
Compute Class Statistics
Query Boundary
Compute Pixel Location
Compute Angles
Validate
Project